BEGIN:VCALENDAR
VERSION:2.0
PRODID:-//EFGS - ECPv6.15.20//NONSGML v1.0//EN
CALSCALE:GREGORIAN
METHOD:PUBLISH
X-ORIGINAL-URL:https://www.efgs.info
X-WR-CALDESC:Events for EFGS
REFRESH-INTERVAL;VALUE=DURATION:PT1H
X-Robots-Tag:noindex
X-PUBLISHED-TTL:PT1H
BEGIN:VTIMEZONE
TZID:Europe/London
BEGIN:DAYLIGHT
TZOFFSETFROM:+0000
TZOFFSETTO:+0100
TZNAME:BST
DTSTART:20220327T010000
END:DAYLIGHT
BEGIN:STANDARD
TZOFFSETFROM:+0100
TZOFFSETTO:+0000
TZNAME:GMT
DTSTART:20221030T010000
END:STANDARD
BEGIN:DAYLIGHT
TZOFFSETFROM:+0000
TZOFFSETTO:+0100
TZNAME:BST
DTSTART:20230326T010000
END:DAYLIGHT
BEGIN:STANDARD
TZOFFSETFROM:+0100
TZOFFSETTO:+0000
TZNAME:GMT
DTSTART:20231029T010000
END:STANDARD
BEGIN:DAYLIGHT
TZOFFSETFROM:+0000
TZOFFSETTO:+0100
TZNAME:BST
DTSTART:20240331T010000
END:DAYLIGHT
BEGIN:STANDARD
TZOFFSETFROM:+0100
TZOFFSETTO:+0000
TZNAME:GMT
DTSTART:20241027T010000
END:STANDARD
BEGIN:DAYLIGHT
TZOFFSETFROM:+0000
TZOFFSETTO:+0100
TZNAME:BST
DTSTART:20250330T010000
END:DAYLIGHT
BEGIN:STANDARD
TZOFFSETFROM:+0100
TZOFFSETTO:+0000
TZNAME:GMT
DTSTART:20251026T010000
END:STANDARD
BEGIN:DAYLIGHT
TZOFFSETFROM:+0000
TZOFFSETTO:+0100
TZNAME:BST
DTSTART:20260329T010000
END:DAYLIGHT
BEGIN:STANDARD
TZOFFSETFROM:+0100
TZOFFSETTO:+0000
TZNAME:GMT
DTSTART:20261025T010000
END:STANDARD
BEGIN:DAYLIGHT
TZOFFSETFROM:+0000
TZOFFSETTO:+0100
TZNAME:BST
DTSTART:20270328T010000
END:DAYLIGHT
BEGIN:STANDARD
TZOFFSETFROM:+0100
TZOFFSETTO:+0000
TZNAME:GMT
DTSTART:20271031T010000
END:STANDARD
END:VTIMEZONE
BEGIN:VEVENT
DTSTART;TZID=Europe/London:20231025T130000
DTEND;TZID=Europe/London:20231025T143000
DTSTAMP:20260421T193925
CREATED:20231023T074844Z
LAST-MODIFIED:20231023T074844Z
UID:14589-1698238800-1698244200@www.efgs.info
SUMMARY:UN-GGIM Europe Webinar: Geospatial information for territorial policy support in the context of SDGs
DESCRIPTION:The webinar programme aims to\, first\, collect the needs and requirements within the work done by the different groups\, initiatives\, stakeholders in Europe or globally; and secondly to define the relevant SDG indicators\, requirements and cross-cutting issues to be addressed in the current mandate. \nThe concept note can be found here. To registration for the webinar please follow this link.
URL:https://www.efgs.info/events/un-ggim-europe-webinar-geospatial-information-for-territorial-policy-support-in-the-context-of-sdgs/
END:VEVENT
BEGIN:VEVENT
DTSTART;TZID=Europe/London:20231107T130000
DTEND;TZID=Europe/London:20231107T143000
DTSTAMP:20260421T193925
CREATED:20231031T134826Z
LAST-MODIFIED:20231031T134826Z
UID:14593-1699362000-1699367400@www.efgs.info
SUMMARY:UN-GGIM Europe: Webinar - Linked Data in the European spatial data infrastructure – an operational view
DESCRIPTION:
URL:https://www.efgs.info/events/un-ggim-europe-webinar-linked-data-in-the-european-spatial-data-infrastructure-an-operational-view/
END:VEVENT
BEGIN:VEVENT
DTSTART;TZID=Europe/London:20231115T130000
DTEND;TZID=Europe/London:20231115T143000
DTSTAMP:20260421T193925
CREATED:20231108T114938Z
LAST-MODIFIED:20231108T114938Z
UID:14596-1700053200-1700058600@www.efgs.info
SUMMARY:UN-GGIM Europe: Webinar - United Nations Geospatial Network Data Hub: “One UN Geospatial Situation Room”
DESCRIPTION:Organised by the Line of Work on SDGs\, the goal of this webinar is to introduce the concept of a geospatial situation room using the example of the UN geospatial network data hub and other regional data integration cooperation networks and to describe the various contributions\, international UN and European organisations can make to the ideal of one global\, well-structured technical\, semantical and organisation platform for integrated geospatial data. \nThe concept note\, will be available in due course. For the registration\, please follow this link.
URL:https://www.efgs.info/events/un-ggim-europe-webinar-united-nations-geospatial-network-data-hub-one-un-geospatial-situation-room/
END:VEVENT
BEGIN:VEVENT
DTSTART;TZID=Europe/London:20231122T090000
DTEND;TZID=Europe/London:20231123T150000
DTSTAMP:20260421T193925
CREATED:20231019T085418Z
LAST-MODIFIED:20231019T085418Z
UID:14581-1700643600-1700751600@www.efgs.info
SUMMARY:10. Plenary meeting of UN-GGIM: Europe
DESCRIPTION:The Tenth Plenary Meeting of the European Region of the United Nations Committee of Experts on Global Geospatial Information Management (UN-GGIM: Europe) will be held from 22 – 23 November 2023 in Brussels\, Belgium. \nThe Tenth Plenary Meeting of UN-GGIM: Europe will once again bring together senior executives from national geospatial information and statistical authorities within Member States and international geospatial experts from across the region. \nThe meeting\, which is being hosted by Eurostat\, will take place at The Berlaymont building\, Brussels\, Belgium. The plenary meeting agenda will be available in due course\, however the meeting is expected to commence by 9:00 on Wednesday 22 November and end by 15:00 on Thursday 23 November.
URL:https://www.efgs.info/events/10-plenary-meeting-of-un-ggim-europe/
LOCATION:Brussels
END:VEVENT
BEGIN:VEVENT
DTSTART;VALUE=DATE:20231128
DTEND;VALUE=DATE:20231130
DTSTAMP:20260421T193925
CREATED:20231116T131241Z
LAST-MODIFIED:20231116T131241Z
UID:14639-1701129600-1701302399@www.efgs.info
SUMMARY:INSPIRE 2023 conference
DESCRIPTION:The INSPIRE 2023 conference “Green data for all” \nRegistration is now open! (for online attendance only)  \nConference programme:  Download
URL:https://www.efgs.info/events/inspire-2023-conference/
END:VEVENT
BEGIN:VEVENT
DTSTART;VALUE=DATE:20240312
DTEND;VALUE=DATE:20240314
DTSTAMP:20260421T193925
CREATED:20231016T130253Z
LAST-MODIFIED:20231016T130253Z
UID:14568-1710201600-1710374399@www.efgs.info
SUMMARY:GISCO Working Group meeting on integration of statistical geospatial information
DESCRIPTION:
URL:https://www.efgs.info/events/gisco-working-group-meeting-on-integration-of-statistical-geospatial-information/
LOCATION:Luxembourg\, Luxembourg\, Luxembourg
END:VEVENT
BEGIN:VEVENT
DTSTART;VALUE=DATE:20240415
DTEND;VALUE=DATE:20240417
DTSTAMP:20260421T193925
CREATED:20240329T111522Z
LAST-MODIFIED:20240329T111522Z
UID:14662-1713139200-1713311999@www.efgs.info
SUMMARY:UN-GGIM: Europe Meeting Lines of Work on “Data Integration” & “SDG”
DESCRIPTION:
URL:https://www.efgs.info/events/un-ggim-europe-meeting-lines-of-work-on-data-integration-sdg/
END:VEVENT
BEGIN:VEVENT
DTSTART;VALUE=DATE:20240807
DTEND;VALUE=DATE:20240810
DTSTAMP:20260421T193925
CREATED:20240702T131459Z
LAST-MODIFIED:20240702T131536Z
UID:14694-1722988800-1723247999@www.efgs.info
SUMMARY:14. Session UN GGIM
DESCRIPTION:
URL:https://www.efgs.info/events/14-un-ggim/
LOCATION:United Nations Headquarters\, New York\, United Nations Plaza 760\, New York\, NY\, United States
END:VEVENT
BEGIN:VEVENT
DTSTART;VALUE=DATE:20241210
DTEND;VALUE=DATE:20241213
DTSTAMP:20260421T193925
CREATED:20240702T130031Z
LAST-MODIFIED:20240702T130031Z
UID:14690-1733788800-1734047999@www.efgs.info
SUMMARY:EFGS 2024 Conference
DESCRIPTION:
URL:https://www.efgs.info/events/efgs-2024-conference/
LOCATION:Slovenia\, Brdo pri Kranju\, Slovenia
END:VEVENT
BEGIN:VEVENT
DTSTART;TZID=Europe/London:20250220T150000
DTEND;TZID=Europe/London:20250220T161500
DTSTAMP:20260421T193925
CREATED:20250217T144816Z
LAST-MODIFIED:20250217T150728Z
UID:15007-1740063600-1740068100@www.efgs.info
SUMMARY:Mapping Progress: Advancing the Degree of Urbanization global implementation
DESCRIPTION:Registration here
URL:https://www.efgs.info/events/mapping-progress-advancing-the-degree-of-urbanization-global-implementation/
LOCATION:virtual
END:VEVENT
BEGIN:VEVENT
DTSTART;TZID=Europe/London:20250225T130000
DTEND;TZID=Europe/London:20250225T141500
DTSTAMP:20260421T193925
CREATED:20250217T145208Z
LAST-MODIFIED:20250217T150936Z
UID:15011-1740488400-1740492900@www.efgs.info
SUMMARY:Intra- and inter-regional cooperation for geostatistical integration
DESCRIPTION:The description of the event and connection details here
URL:https://www.efgs.info/events/intra-and-inter-regional-cooperation-for-geostatistical-integration/
LOCATION:virtual
END:VEVENT
BEGIN:VEVENT
DTSTART;VALUE=DATE:20250324
DTEND;VALUE=DATE:20250326
DTSTAMP:20260421T193925
CREATED:20250214T084100Z
LAST-MODIFIED:20250214T084100Z
UID:15004-1742774400-1742947199@www.efgs.info
SUMMARY:GISCO WG on Integration of Statistical and Geospatial Information
DESCRIPTION:
URL:https://www.efgs.info/events/gisco-wg-on-integration-of-statistical-and-geospatial-information/
LOCATION:Luxembourg\, Luxembourg\, Luxembourg
END:VEVENT
BEGIN:VEVENT
DTSTART;VALUE=DATE:20250325
DTEND;VALUE=DATE:20250326
DTSTAMP:20260421T193925
CREATED:20250219T141534Z
LAST-MODIFIED:20250219T141534Z
UID:15021-1742860800-1742947199@www.efgs.info
SUMMARY:11. Joint UN-GGIM: Europe - UNECE - ESS Meeting 2025
DESCRIPTION:
URL:https://www.efgs.info/events/11-joint-un-ggim-europe-unece-ess-meeting-2025/
LOCATION:EUROSTAT\, Luxembourg\, Luxembourg
END:VEVENT
BEGIN:VEVENT
DTSTART;VALUE=DATE:20250624
DTEND;VALUE=DATE:20250626
DTSTAMP:20260421T193925
CREATED:20250424T114304Z
LAST-MODIFIED:20250424T114304Z
UID:15060-1750723200-1750895999@www.efgs.info
SUMMARY:12. Plenary Meeting UN-GGIM: Europe
DESCRIPTION:
URL:https://www.efgs.info/events/12-plenary-meeting-un-ggim-europe/
LOCATION:Brussels\, Brussels
END:VEVENT
BEGIN:VEVENT
DTSTART;VALUE=DATE:20250806
DTEND;VALUE=DATE:20250809
DTSTAMP:20260421T193925
CREATED:20250424T113956Z
LAST-MODIFIED:20250424T113956Z
UID:15058-1754438400-1754697599@www.efgs.info
SUMMARY:15. Session UN-GGIM
DESCRIPTION:
URL:https://www.efgs.info/events/15-session-un-ggim/
LOCATION:United Nations Headquarters\, New York\, United Nations Plaza 760\, New York\, NY\, United States
END:VEVENT
BEGIN:VEVENT
DTSTART;VALUE=DATE:20250923
DTEND;VALUE=DATE:20250926
DTSTAMP:20260421T193925
CREATED:20250325T111025Z
LAST-MODIFIED:20250325T111025Z
UID:15038-1758585600-1758844799@www.efgs.info
SUMMARY:EFGS 2025 Conference
DESCRIPTION:
URL:https://www.efgs.info/events/efgs-2025-conference/
LOCATION:Oslo\, Norway
END:VEVENT
BEGIN:VEVENT
DTSTART;TZID=Europe/London:20260116T140000
DTEND;TZID=Europe/London:20260116T153000
DTSTAMP:20260421T193925
CREATED:20251222T105540Z
LAST-MODIFIED:20251222T105540Z
UID:15450-1768572000-1768577400@www.efgs.info
SUMMARY:Introduction to EO for Official Statistics - EO training
DESCRIPTION:
URL:https://www.efgs.info/events/introduction-to-eo-for-official-statistics-eo-training/
END:VEVENT
BEGIN:VEVENT
DTSTART;TZID=Europe/London:20260123T140000
DTEND;TZID=Europe/London:20260123T160000
DTSTAMP:20260421T193925
CREATED:20251222T105708Z
LAST-MODIFIED:20251222T105916Z
UID:15452-1769176800-1769184000@www.efgs.info
SUMMARY:Practical Session: QGIS & Copernicus Use Cases - EO training 2
DESCRIPTION:
URL:https://www.efgs.info/events/practical-session-qgis-copernicus-use-cases-eo-training-2/
END:VEVENT
BEGIN:VEVENT
DTSTART;TZID=Europe/London:20260130T140000
DTEND;TZID=Europe/London:20260130T150000
DTSTAMP:20260421T193925
CREATED:20251222T105835Z
LAST-MODIFIED:20251222T105835Z
UID:15454-1769781600-1769785200@www.efgs.info
SUMMARY:Advanced EO Applications - EO training 3
DESCRIPTION:
URL:https://www.efgs.info/events/advanced-eo-applications-eo-training-3/
END:VEVENT
BEGIN:VEVENT
DTSTART;TZID=Europe/London:20260310T100000
DTEND;TZID=Europe/London:20260310T113000
DTSTAMP:20260421T193925
CREATED:20260304T104105Z
LAST-MODIFIED:20260304T112827Z
UID:15485-1773136800-1773142200@www.efgs.info
SUMMARY:GSGF-CARE webinar: Maturity of Statistical–Geospatial Integration: Where Do You Stand?
DESCRIPTION:More information in the news
URL:https://www.efgs.info/events/gsgf-care-webinar-maturity-of-statistical-geospatial-integration-where-do-you-stand/
END:VEVENT
BEGIN:VEVENT
DTSTART;VALUE=DATE:20260324
DTEND;VALUE=DATE:20260326
DTSTAMP:20260421T193925
CREATED:20251215T091454Z
LAST-MODIFIED:20251215T092310Z
UID:15425-1774310400-1774483199@www.efgs.info
SUMMARY:GISCO WG on Integration of Statistical and Geospatial Information
DESCRIPTION:
URL:https://www.efgs.info/events/gisco-wg-on-integration-of-statistical-and-geospatial-information-2/
LOCATION:Luxembourg\, Luxembourg\, Luxembourg
END:VEVENT
BEGIN:VEVENT
DTSTART;VALUE=DATE:20260930
DTEND;VALUE=DATE:20261003
DTSTAMP:20260421T193925
CREATED:20251215T083517Z
LAST-MODIFIED:20251215T083517Z
UID:15423-1790726400-1790985599@www.efgs.info
SUMMARY:EFGS 2026 conference
DESCRIPTION:
URL:https://www.efgs.info/events/efgs-2026-conference/
LOCATION:Brussels\, Brussels
END:VEVENT
END:VCALENDAR