BEGIN:VCALENDAR
VERSION:2.0
PRODID:-//EFGS - ECPv6.15.20//NONSGML v1.0//EN
CALSCALE:GREGORIAN
METHOD:PUBLISH
X-ORIGINAL-URL:https://www.efgs.info
X-WR-CALDESC:Events for EFGS
REFRESH-INTERVAL;VALUE=DURATION:PT1H
X-Robots-Tag:noindex
X-PUBLISHED-TTL:PT1H
BEGIN:VTIMEZONE
TZID:Europe/London
BEGIN:DAYLIGHT
TZOFFSETFROM:+0000
TZOFFSETTO:+0100
TZNAME:BST
DTSTART:20200329T010000
END:DAYLIGHT
BEGIN:STANDARD
TZOFFSETFROM:+0100
TZOFFSETTO:+0000
TZNAME:GMT
DTSTART:20201025T010000
END:STANDARD
BEGIN:DAYLIGHT
TZOFFSETFROM:+0000
TZOFFSETTO:+0100
TZNAME:BST
DTSTART:20210328T010000
END:DAYLIGHT
BEGIN:STANDARD
TZOFFSETFROM:+0100
TZOFFSETTO:+0000
TZNAME:GMT
DTSTART:20211031T010000
END:STANDARD
BEGIN:DAYLIGHT
TZOFFSETFROM:+0000
TZOFFSETTO:+0100
TZNAME:BST
DTSTART:20220327T010000
END:DAYLIGHT
BEGIN:STANDARD
TZOFFSETFROM:+0100
TZOFFSETTO:+0000
TZNAME:GMT
DTSTART:20221030T010000
END:STANDARD
BEGIN:DAYLIGHT
TZOFFSETFROM:+0000
TZOFFSETTO:+0100
TZNAME:BST
DTSTART:20230326T010000
END:DAYLIGHT
BEGIN:STANDARD
TZOFFSETFROM:+0100
TZOFFSETTO:+0000
TZNAME:GMT
DTSTART:20231029T010000
END:STANDARD
BEGIN:DAYLIGHT
TZOFFSETFROM:+0000
TZOFFSETTO:+0100
TZNAME:BST
DTSTART:20240331T010000
END:DAYLIGHT
BEGIN:STANDARD
TZOFFSETFROM:+0100
TZOFFSETTO:+0000
TZNAME:GMT
DTSTART:20241027T010000
END:STANDARD
END:VTIMEZONE
BEGIN:VTIMEZONE
TZID:Europe/Warsaw
BEGIN:DAYLIGHT
TZOFFSETFROM:+0100
TZOFFSETTO:+0200
TZNAME:CEST
DTSTART:20200329T010000
END:DAYLIGHT
BEGIN:STANDARD
TZOFFSETFROM:+0200
TZOFFSETTO:+0100
TZNAME:CET
DTSTART:20201025T010000
END:STANDARD
BEGIN:DAYLIGHT
TZOFFSETFROM:+0100
TZOFFSETTO:+0200
TZNAME:CEST
DTSTART:20210328T010000
END:DAYLIGHT
BEGIN:STANDARD
TZOFFSETFROM:+0200
TZOFFSETTO:+0100
TZNAME:CET
DTSTART:20211031T010000
END:STANDARD
BEGIN:DAYLIGHT
TZOFFSETFROM:+0100
TZOFFSETTO:+0200
TZNAME:CEST
DTSTART:20220327T010000
END:DAYLIGHT
BEGIN:STANDARD
TZOFFSETFROM:+0200
TZOFFSETTO:+0100
TZNAME:CET
DTSTART:20221030T010000
END:STANDARD
END:VTIMEZONE
BEGIN:VEVENT
DTSTART;VALUE=DATE:20210422
DTEND;VALUE=DATE:20210423
DTSTAMP:20260419T150326
CREATED:20210422T101811Z
LAST-MODIFIED:20210422T101941Z
UID:9867-1619049600-1619135999@www.efgs.info
SUMMARY:Earth Day
DESCRIPTION:
URL:https://www.efgs.info/events/earth-day/
END:VEVENT
BEGIN:VEVENT
DTSTART;VALUE=DATE:20210427
DTEND;VALUE=DATE:20210428
DTSTAMP:20260419T150326
CREATED:20210427T104625Z
LAST-MODIFIED:20210427T104625Z
UID:9956-1619481600-1619567999@www.efgs.info
SUMMARY:Virtual Expert Meeting on Policy and Legal Frameworks for Geospatial Information Management
DESCRIPTION:2nd Virtual Expert Meeting on Policy and Legal Frameworks for Geospatial Information Management \n10:30 a.m. – 12:30 a.m. (UTC) / 06:30 a.m. – 08:30 a.m. (EDT-New York/UTC-4) \nProvisional Annotated Agenda
URL:https://www.efgs.info/events/virtual-expert-meeting-on-policy-and-legal-frameworks-for-geospatial-information-management-3/
END:VEVENT
BEGIN:VEVENT
DTSTART;VALUE=DATE:20210429
DTEND;VALUE=DATE:20210430
DTSTAMP:20260419T150326
CREATED:20210427T104620Z
LAST-MODIFIED:20210427T104700Z
UID:9959-1619654400-1619740799@www.efgs.info
SUMMARY:Virtual Expert Meeting on Policy and Legal Frameworks for Geospatial Information Management
DESCRIPTION:2nd Virtual Expert Meeting on Policy and Legal Frameworks for Geospatial Information Management \n10:30 a.m. – 12:30 a.m. (UTC) / 06:30 a.m. – 08:30 a.m. (EDT-New York/UTC-4) \nProvisional Annotated Agenda
URL:https://www.efgs.info/events/virtual-expert-meeting-on-policy-and-legal-frameworks-for-geospatial-information-management-2/
END:VEVENT
BEGIN:VEVENT
DTSTART;TZID=Europe/Warsaw:20210429T140000
DTEND;TZID=Europe/Warsaw:20210429T150000
DTSTAMP:20260419T150326
CREATED:20210421T085018Z
LAST-MODIFIED:20210421T091728Z
UID:9814-1619704800-1619708400@www.efgs.info
SUMMARY:Webinar on Developments in Applying Global Grids
DESCRIPTION:14.00-15.00 CET
URL:https://www.efgs.info/events/webinar-on-developments-in-applying-global-grids/
END:VEVENT
BEGIN:VEVENT
DTSTART;VALUE=DATE:20210517
DTEND;VALUE=DATE:20210518
DTSTAMP:20260419T150326
CREATED:20201123T114033Z
LAST-MODIFIED:20201123T114742Z
UID:8977-1621209600-1621295999@www.efgs.info
SUMMARY:The European Workshop on Urban Climate Indicators EWUCI 2021
DESCRIPTION:More information about contribution in the workshop here
URL:https://www.efgs.info/events/the-european-workshop-on-urban-climate-indicators-ewuci-2021/
LOCATION:Paris\, Paris
END:VEVENT
BEGIN:VEVENT
DTSTART;TZID=Europe/London:20210518T170000
DTEND;TZID=Europe/London:20210518T180000
DTSTAMP:20260419T150326
CREATED:20210506T082148Z
LAST-MODIFIED:20210506T082148Z
UID:10085-1621357200-1621360800@www.efgs.info
SUMMARY:Webinar on Geospatial and Statistical Standards
DESCRIPTION:17.00 to 18.00 Central European Time
URL:https://www.efgs.info/events/webinar-on-geospatial-and-statistical-standards/
END:VEVENT
BEGIN:VEVENT
DTSTART;TZID=Europe/London:20210623T100000
DTEND;TZID=Europe/London:20210623T233000
DTSTAMP:20260419T150326
CREATED:20210610T084531Z
LAST-MODIFIED:20210610T085617Z
UID:10197-1624442400-1624491000@www.efgs.info
SUMMARY:European Geodesy Forum
DESCRIPTION:Concept note here  \nRegistration form here
URL:https://www.efgs.info/events/european-geodesy-forum/
END:VEVENT
BEGIN:VEVENT
DTSTART;VALUE=DATE:20210823
DTEND;VALUE=DATE:20210825
DTSTAMP:20260419T150326
CREATED:20210506T123151Z
LAST-MODIFIED:20210723T090712Z
UID:10090-1629676800-1629849599@www.efgs.info
SUMMARY:11th Session of UN GGIM
DESCRIPTION:
URL:https://www.efgs.info/events/11th-session-of-un-ggim/
END:VEVENT
BEGIN:VEVENT
DTSTART;VALUE=DATE:20210827
DTEND;VALUE=DATE:20210828
DTSTAMP:20260419T150326
CREATED:20210723T090717Z
LAST-MODIFIED:20210723T090717Z
UID:10255-1630022400-1630108799@www.efgs.info
SUMMARY:11th Session of UN GGIM
DESCRIPTION:
URL:https://www.efgs.info/events/11th-session-of-un-ggim-2/
END:VEVENT
BEGIN:VEVENT
DTSTART;VALUE=DATE:20210907
DTEND;VALUE=DATE:20210909
DTSTAMP:20260419T150326
CREATED:20210326T102534Z
LAST-MODIFIED:20210527T081622Z
UID:9376-1630972800-1631145599@www.efgs.info
SUMMARY:EFGS 2021 Conference
DESCRIPTION:EFGS 2021 Conference (virtual)
URL:https://www.efgs.info/events/efgs-2021-conference/
END:VEVENT
BEGIN:VEVENT
DTSTART;VALUE=DATE:20210927
DTEND;VALUE=DATE:20211001
DTSTAMP:20260419T150326
CREATED:20210615T113119Z
LAST-MODIFIED:20210615T113119Z
UID:10213-1632700800-1633046399@www.efgs.info
SUMMARY:The SDMX Global Conference
DESCRIPTION:The 8th SDMX Global Conference will be held virtually from 27 to 30 September 2021. The conference will consist of four half-day virtual sessions (Mexico City morning time).
URL:https://www.efgs.info/events/the-sdmx-global-conference/
END:VEVENT
BEGIN:VEVENT
DTSTART;VALUE=DATE:20211013
DTEND;VALUE=DATE:20211015
DTSTAMP:20260419T150326
CREATED:20210915T105510Z
LAST-MODIFIED:20211011T144619Z
UID:10355-1634083200-1634255999@www.efgs.info
SUMMARY:8. Plenary Meeting of UN-GGIM: Europe
DESCRIPTION:Virtual event
URL:https://www.efgs.info/events/8-plenary-meeting-of-un-ggim-europe-2/
END:VEVENT
BEGIN:VEVENT
DTSTART;VALUE=DATE:20211020
DTEND;VALUE=DATE:20211023
DTSTAMP:20260419T150326
CREATED:20210610T090031Z
LAST-MODIFIED:20210610T090031Z
UID:10204-1634688000-1634947199@www.efgs.info
SUMMARY:Geospatial World Forum
DESCRIPTION:
URL:https://www.efgs.info/events/geospatial-world-forum-2/
END:VEVENT
BEGIN:VEVENT
DTSTART;VALUE=DATE:20211025
DTEND;VALUE=DATE:20211030
DTSTAMP:20260419T150326
CREATED:20210723T090006Z
LAST-MODIFIED:20210723T090202Z
UID:10250-1635120000-1635551999@www.efgs.info
SUMMARY:INSPIRE CONFERENCE 2021
DESCRIPTION:Towards a Common European Green Deal data space for environment and sustainability – INSPIRE CONFERENCE 2021 –  online\n\nProgramme here
URL:https://www.efgs.info/events/inspire-conference-2021/
END:VEVENT
BEGIN:VEVENT
DTSTART;VALUE=DATE:20220211
DTEND;VALUE=DATE:20220212
DTSTAMP:20260419T150326
CREATED:20220214T104602Z
LAST-MODIFIED:20220214T105006Z
UID:12273-1644537600-1644623999@www.efgs.info
SUMMARY:Geospatial Information for Sustainable Development - UNSC Side Event
DESCRIPTION:
URL:https://www.efgs.info/events/geospatial-information-for-sustainable-development-unsc-side-event/
END:VEVENT
BEGIN:VEVENT
DTSTART;VALUE=DATE:20220323
DTEND;VALUE=DATE:20220325
DTSTAMP:20260419T150326
CREATED:20220120T093546Z
LAST-MODIFIED:20220120T093647Z
UID:11628-1647993600-1648166399@www.efgs.info
SUMMARY:GISCO WG & Joint UN-GGIM: Europe – ESS – UNECE Meeting
DESCRIPTION:
URL:https://www.efgs.info/events/gisco-wg-joint-un-ggim-europe-ess-unece-meeting-2/
END:VEVENT
BEGIN:VEVENT
DTSTART;VALUE=DATE:20220509
DTEND;VALUE=DATE:20220513
DTSTAMP:20260419T150326
CREATED:20220221T122336Z
LAST-MODIFIED:20220221T124054Z
UID:12749-1652054400-1652399999@www.efgs.info
SUMMARY:Geospatial World Forum
DESCRIPTION:For over a decade\, Geospatial World Forum (GWF) has been the premium geospatial industry platform that connects professionals and leaders representing the entire geospatial ecosystem. \nIts collaborative and interactive nature has made GWF a ‘conference of conferences’\, offering unique\, unmissable experience to geospatial professionals worldwide. \n\nPublic policies\nNational geospatial agencies\nPrivate sector enterprises\nMultilateral and development organizations\nScientific and academic institutions\nLarge end users from government\, businesses and consumer services\n\nProgram overview here \nRegistration here
URL:https://www.efgs.info/events/geospatial-world-forum-3/
LOCATION:TAETS ART AND EVENT PARK\, Hemkade 18 (Hembrugterrein)\, Amsterdam\, 1506 PR\, Netherlands
END:VEVENT
BEGIN:VEVENT
DTSTART;VALUE=DATE:20220620
DTEND;VALUE=DATE:20220622
DTSTAMP:20260419T150326
CREATED:20220511T111801Z
LAST-MODIFIED:20220511T111801Z
UID:14233-1655683200-1655855999@www.efgs.info
SUMMARY:9. Plenary Meeting of UN-GGIM: Europe
DESCRIPTION:
URL:https://www.efgs.info/events/9-plenary-meeting-of-un-ggim-europe/
END:VEVENT
BEGIN:VEVENT
DTSTART;VALUE=DATE:20220803
DTEND;VALUE=DATE:20220806
DTSTAMP:20260419T150326
CREATED:20220518T075600Z
LAST-MODIFIED:20220518T075600Z
UID:14235-1659484800-1659743999@www.efgs.info
SUMMARY:12th Session of UN GGIM
DESCRIPTION:
URL:https://www.efgs.info/events/12th-session-of-un-ggim/
LOCATION:United Nations Headquarters\, New York\, United Nations Plaza 760\, New York\, NY\, United States
END:VEVENT
BEGIN:VEVENT
DTSTART;VALUE=DATE:20220905
DTEND;VALUE=DATE:20220907
DTSTAMP:20260419T150326
CREATED:20220907T105413Z
LAST-MODIFIED:20220907T105413Z
UID:14252-1662336000-1662508799@www.efgs.info
SUMMARY:EFGS SC+ meetinh
DESCRIPTION:
URL:https://www.efgs.info/events/efgs-sc-meetinh/
LOCATION:Vienna\, Vienna\, Austria
END:VEVENT
BEGIN:VEVENT
DTSTART;VALUE=DATE:20221027
DTEND;VALUE=DATE:20221029
DTSTAMP:20260419T150326
CREATED:20220907T105533Z
LAST-MODIFIED:20221019T123050Z
UID:14255-1666828800-1667001599@www.efgs.info
SUMMARY:EFGS 2022 Conference
DESCRIPTION:More information here
URL:https://www.efgs.info/events/efgs-2022-webinar/
END:VEVENT
BEGIN:VEVENT
DTSTART;VALUE=DATE:20221201
DTEND;VALUE=DATE:20221203
DTSTAMP:20260419T150326
CREATED:20221108T135104Z
LAST-MODIFIED:20221108T135813Z
UID:14427-1669852800-1670025599@www.efgs.info
SUMMARY:7. meeting of the EG ISGI and Regional Workshop"The GSGF and Beyond"
DESCRIPTION:7. meeting of the EG ISGI and Regional Workshop on Integrating Statistical and Geospatial Information for Sustainable Development “The GSGF and Beyond”. \nThe United Nations Global Geospatial Information Management Section\, Statistics Division\, Department of Economic and Social Affairs and the United Nations Economic Commission for Latin America and the Caribbean\, will jointly organize the expert meeting and regional workshop together with the United Nations Expert Group on the Integration of Statistical and Geospatial Information on the margins of the ninth session of the Regional Committee of United Nations Global Geospatial Information Management for the Americas (UN-GGIM: Americas). \nThe meeting of the Expert Group is a closed meeting\, by invitation only\, allows members of the Expert Group together with invited experts to review\, consider and discuss its progress to-date\, follow through on the guidance and decisions of the UN Statistical Commission and UN-GGIM. \nThis meeting will enable the Expert Group to review and deliberate its future direction\, including identifying how to advance the Global Statistical Geospatial Framework (GSGF); agree on its next steps to assist Member States in strengthening statistical geospatial integration and coordination towards the full implementation of the 2030 Agenda for Sustainable Development; and establish coordination mechanisms to enable Member States to build resilient\, agile\, relevant\, responsive and robust statistical and data systems adhering to the Fundamental Principles of Official Statistics that fully integrate geospatial information. \nThe Regional Workshop on Integrating Statistical and Geospatial Information for Sustainable Development with the theme ‘The GSGF and Beyond’ will provide a forum for deliberating key considerations for the integration of statistical and geospatial information\, including promoting and raising awareness of the GSGF and the GSGF Implementation Guide\, and examining how the GSGF can be practically operationalised by Member States to strengthen geo-statistical integration. The Regional Workshop seeks to share and exchange knowledge\, information and experience; facilitate peer-to-peer engagement and learning; interact and consider guidance\, recommendations\, standards and approaches towards geo-statistical integration for the implementation of the 2030 Agenda and other national priorities and global development agendas
URL:https://www.efgs.info/events/7-meeting-of-the-eg-isgi-and-regional-workshop-on-integrating-statistical-and-geospatial-information-for-sustainable-development-the-gsgf-and-beyond/
LOCATION:UNECLAC\, Santiago\, Chile
END:VEVENT
BEGIN:VEVENT
DTSTART;VALUE=DATE:20230306
DTEND;VALUE=DATE:20230308
DTSTAMP:20260419T150326
CREATED:20230131T085653Z
LAST-MODIFIED:20230131T092452Z
UID:14466-1678060800-1678233599@www.efgs.info
SUMMARY:GISCO 2023
DESCRIPTION:
URL:https://www.efgs.info/events/gisco-2023/
LOCATION:Luxembourg\, Luxembourg\, Luxembourg
END:VEVENT
BEGIN:VEVENT
DTSTART;VALUE=DATE:20230307
DTEND;VALUE=DATE:20230310
DTSTAMP:20260419T150326
CREATED:20230131T085510Z
LAST-MODIFIED:20230131T092139Z
UID:14464-1678147200-1678406399@www.efgs.info
SUMMARY:NTTS 2023
DESCRIPTION:
URL:https://www.efgs.info/events/ntts-2023/
LOCATION:Brussels\, Brussels
END:VEVENT
BEGIN:VEVENT
DTSTART;TZID=Europe/London:20230315T130000
DTEND;TZID=Europe/London:20230315T143000
DTSTAMP:20260419T150326
CREATED:20230314T094507Z
LAST-MODIFIED:20230314T094507Z
UID:14492-1678885200-1678890600@www.efgs.info
SUMMARY:UN-GGIM: Europe Webinar - Data integration in Europe – A perspective on challenges\, findings\, added value and cost savings in the EU context
DESCRIPTION:The concept note and agenda for the webinar can be found here. To register for the webinar please click here. \nThe webinar will be held on 15 March 2023\, 13:00 – 14:30 (CET).
URL:https://www.efgs.info/events/un-ggim-europe-webinar-data-integration-in-europe-a-perspective-on-challenges-findings-added-value-and-cost-savings-in-the-eu-context/
END:VEVENT
BEGIN:VEVENT
DTSTART;TZID=Europe/London:20230425T130000
DTEND;TZID=Europe/London:20230425T143000
DTSTAMP:20260419T150326
CREATED:20230324T084748Z
LAST-MODIFIED:20230324T084748Z
UID:14495-1682427600-1682433000@www.efgs.info
SUMMARY:UN-GGIM: Europe Webinar - Showcasing the added value of geospatial and statistical data integration to compute SDG indicators
DESCRIPTION:The concept note can be found here. \nMore information here
URL:https://www.efgs.info/events/un-ggim-europe-webinar-showcasing-the-added-value-of-geospatial-and-statistical-data-integration-to-compute-sdg-indicators/
END:VEVENT
BEGIN:VEVENT
DTSTART;TZID=Europe/London:20230523T130000
DTEND;TZID=Europe/London:20230523T143000
DTSTAMP:20260419T150326
CREATED:20230324T085039Z
LAST-MODIFIED:20230324T085039Z
UID:14499-1684846800-1684852200@www.efgs.info
SUMMARY:UN-GGIM: Europe Webinar - Earth Observation and SDGs: uses cases and workflows
DESCRIPTION:The concept note can be found here. \nMore information here \nThe webinar will be held on 23 May 2023\, 13:00 – 14:30 (CEST)
URL:https://www.efgs.info/events/un-ggim-europe-webinar-earth-observation-and-sdgs-uses-cases-and-workflows/
END:VEVENT
BEGIN:VEVENT
DTSTART;TZID=Europe/London:20230619T130000
DTEND;TZID=Europe/London:20230619T143000
DTSTAMP:20260419T150326
CREATED:20230324T085313Z
LAST-MODIFIED:20230324T085313Z
UID:14502-1687179600-1687185000@www.efgs.info
SUMMARY:UN-GGIM: Europe Webinar - The way towards a Geospatial Knowledge Infrastructure\, GSGF -IGIF recommendations
DESCRIPTION:agenda and registration for the webinar will be available in due course. \nMore information here \nThe webinar will be held on 19 June 2023\, 13:00 – 14:30 (CEST).
URL:https://www.efgs.info/events/un-ggim-europe-webinar-the-way-towards-a-geospatial-knowledge-infrastructure-gsgf-igif-recommendations/
END:VEVENT
BEGIN:VEVENT
DTSTART;VALUE=DATE:20230802
DTEND;VALUE=DATE:20230805
DTSTAMP:20260419T150326
CREATED:20230505T121608Z
LAST-MODIFIED:20230505T121858Z
UID:14536-1690934400-1691193599@www.efgs.info
SUMMARY:13. Session of UN GGIM
DESCRIPTION:Thirteenth Session of the United Nations Committee of Experts on Global Geospatial Information Management (UN-GGIM\nThe Provisional Agenda (E/C.20/2023/1) and the Documentation for the Session (E/C.20/2023/2) are available on the website of the thirteenth session of the Committee at\nhttps://ggim.un.org/meetings/GGIM-committee/13th-Session.  \nOther documents and supporting information on the Thirteenth Session will be posted as they become available. The substantive reports to be discussed during the thirteenth session will also be uploaded to the session’s website no later than 12 July 2023.
URL:https://www.efgs.info/events/13-session-of-un-ggim/
LOCATION:United Nations Headquarters\, New York\, United Nations Plaza 760\, New York\, NY\, United States
END:VEVENT
BEGIN:VEVENT
DTSTART;TZID=Europe/London:20231024T170000
DTEND;TZID=Europe/London:20231024T183000
DTSTAMP:20260419T150326
CREATED:20231023T074619Z
LAST-MODIFIED:20231023T074619Z
UID:14587-1698166800-1698172200@www.efgs.info
SUMMARY:GFGS Coffee Talk
DESCRIPTION:Coffee Talk 10: Grid processing workflow and prototyping of statistics on maps \nUsing Some New Features of DGGRID Version 8.0b\nKevin Sahr (Southern Oregon University) and Alexander Kmoch (University of Tartu)\nDGGRID Version 8.0b is finally available. We will demonstrate how to use some of the new features designed to make it easier to integrate discrete global grids into your geospatial point data processing workflow. \nRapid prototyping of statistics on maps with BI-tools like Tableau\nThomas Bjørnskau (Statistics Norway)\nData visualist Thomas Bjørnskau of Statistics Norway showcase examples of interactive map visualisations produced in Tableau. Visualisations covers topics like population\, immigrants\, health services\, household income\, quality of life.
URL:https://www.efgs.info/events/gfgs-coffee-talk/
END:VEVENT
END:VCALENDAR